BEGIN:VCALENDAR
VERSION:2.0
PRODID:-//Ошмянщина туристическая - ECPv5.5.0.1//NONSGML v1.0//EN
CALSCALE:GREGORIAN
METHOD:PUBLISH
X-WR-CALNAME:Ошмянщина туристическая
X-ORIGINAL-URL:http://oshmturizm.by
X-WR-CALDESC:Events for Ошмянщина туристическая
BEGIN:VTIMEZONE
TZID:Europe/Moscow
BEGIN:STANDARD
TZOFFSETFROM:+0300
TZOFFSETTO:+0300
TZNAME:MSK
DTSTART:20220101T000000
END:STANDARD
END:VTIMEZONE
BEGIN:VEVENT
DTSTART;TZID=Europe/Moscow:20220917T120000
DTEND;TZID=Europe/Moscow:20220917T220000
DTSTAMP:20260423T034849
CREATED:20220916T122026Z
LAST-MODIFIED:20220916T122026Z
UID:3973-1663416000-1663452000@oshmturizm.by
SUMMARY:17 сентября в Ошмянах пройдет молочный фестиваль «Молоко пить — в единстве жить»
DESCRIPTION:В этом году в День народного единства в Ошмянах пройдет молочный фестиваль «Молоко пить — в единстве жить». \nРабота фотовыставок\, дегустационных павильонов\, праздничных фотозон\, выступление творческих коллективов — все запланированные мероприятия проникнуты идеей сплочения и объединения общества. \nФестиваль стартует 17 сентября на площади у здания райисполкома. В 12.00 состоится торжественное открытие. Далее собравшихся ждет насыщенная концертная программа\, в которой примут участие народные и образцовые коллективы Ошмянщины и Островетчины. Ожидаются и гости из Минска. Для горожан и гостей города выступят Александра Гайдук и Александр Воронище. А в 15.30 состоится церемония награждения победителей и участников молочного фестиваля. \nСентябрьский вечер украсит праздничный концерт «За сильную и процветающую Беларусь!»\, который начнется в 19.00. Собравшихся порадует столичная кавер-группа «Эндорфин»\, а также народный театр танца и песни «Импульс». \nНа протяжении праздника будут работать интерактивные игровые площадки «Молочные реки\, кисельные берега»\, «Сырный переполох». Любителей фотографии заинтересует тематическая фотовыставка «Молоко пить — в единстве жить». Не обойдется и без дегустации продукции лучших белорусских предприятий. \nЮных горожан и гостей будут ждать павильоны с попкорном\, сладкой ватой\, тематические фотозоны и многое другое. \nПосадка и высадка пассажиров с автобусных ост
URL:http://oshmturizm.by/event/17-sentyabrya-v-oshmyanah-projdet-molochnyj-festival-moloko-pit-v-edinstve-zhit/
LOCATION:Площадь перед здание райисполкома\, ул. Советская\, 103\, Ошмяны\, Гродненская область\, 231103\, Беларусь
ATTACH;FMTTYPE=image/jpeg:http://oshmturizm.by/wp-content/uploads/2022/09/306669856_486355006834798_5375628686918664580_n.jpg
END:VEVENT
BEGIN:VEVENT
DTSTART;TZID=Europe/Moscow:20220921T080000
DTEND;TZID=Europe/Moscow:20220921T170000
DTSTAMP:20260423T034849
CREATED:20220921T064319Z
LAST-MODIFIED:20220921T064319Z
UID:4013-1663747200-1663779600@oshmturizm.by
SUMMARY:Гродненский областной драматический театр с гастролями посетит Ошмяны
DESCRIPTION:23 сентября 2022 года с гастролями в наш город приедет Гродненский областной драматический театр и представит зрителями 2 замечательных спектакля:в 12:00 приглашаем юного зрителя на сказку «Буратино в Изумрудном городе» по пьесе Л. Владимирского. Храбрый главный герой с Мальвиной отправились в новое приключение. Им нужно во что бы то ни стало обхитрить Людоеда и спасти Страшилу. Спектакль в веселой и поучительной манере показывает\, как важны честность и доброта\, дружба и отзывчивость.Стоимость билета: 6 рублей. \n \nВ 18:00 приглашаем всех ценителей театрального искусства на спектакль «Планета» по одноимённой пьесе Е. Гришковца. Куда только не заносят главного героя спектакля фантазия\, грёзы и воспоминания.И где бы он ни был: в Америке или в Европе\, в собственных сновидениях или парящим вокруг земного шара\, ему не сбежать от образа\, неизменно присутствующего рядом.Стоимость билета: 10 рублей.Заказ билетов по телефонам: 8(01593)2-32-98\, 8(01593)7-32-92\, 8(029)373-61-91
URL:http://oshmturizm.by/event/grodnenskij-oblastnoj-dramaticheskij-teatr-s-gastrolyami-posetit-oshmyany/
ATTACH;FMTTYPE=image/jpeg:http://oshmturizm.by/wp-content/uploads/2022/09/44N4faO-sYs-1.jpg
END:VEVENT
END:VCALENDAR